{
 "currentVersion": 10.31,
 "serviceDescription": "These 80 scales were the primary mechanism for documenting changes to utilities, parcels and other data prior to the GIS system being implemented at the City of Janesville. These were then combined together to create a mosaic for the city, accurate until 2005. The Monument version contains water and sanitary sewer information, but not water or sanitary information due to spatial constraints.",
 "mapName": "Layers",
 "description": "",
 "copyrightText": "",
 "supportsDynamicLayers": false,
 "layers": [
  {
   "id": 0,
   "name": "80 Scales - Monument",
   "parentLayerId": -1,
   "defaultVisibility": true,
   "subLayerIds": null,
   "minScale": 5000,
   "maxScale": 0
  }
 ],
 "tables": [],
 "spatialReference": {
  "wkid": 103453,
  "latestWkid": 103453
 },
 "singleFusedMapCache": true,
 "tileInfo": {
  "rows": 128,
  "cols": 128,
  "dpi": 96,
  "format": "MIXED",
  "compressionQuality": 75,
  "origin": {
   "x": -17969200,
   "y": 17574800
  },
  "spatialReference": {
   "wkid": 103453,
   "latestWkid": 103453
  },
  "lods": [
   {
    "level": 0,
    "resolution": 125,
    "scale": 144000
   },
   {
    "level": 1,
    "resolution": 62.5,
    "scale": 72000
   },
   {
    "level": 2,
    "resolution": 31.25,
    "scale": 36000
   },
   {
    "level": 3,
    "resolution": 15.625,
    "scale": 18000
   },
   {
    "level": 4,
    "resolution": 7.8125,
    "scale": 9000
   },
   {
    "level": 5,
    "resolution": 3.472222222222222,
    "scale": 4000
   },
   {
    "level": 6,
    "resolution": 1.736111111111111,
    "scale": 2000
   },
   {
    "level": 7,
    "resolution": 0.8680555555555555,
    "scale": 1000
   },
   {
    "level": 8,
    "resolution": 0.3472222222222222,
    "scale": 400
   }
  ]
 },
 "initialExtent": {
  "xmin": 496093.8170827269,
  "ymin": 267028.24125531816,
  "xmax": 500128.53930494917,
  "ymax": 269240.04681087367,
  "spatialReference": {
   "wkid": 103453,
   "latestWkid": 103453
  }
 },
 "fullExtent": {
  "xmin": 477504.661635004,
  "ymin": 241731.5493657589,
  "xmax": 514580.4834805876,
  "ymax": 294239.2340483442,
  "spatialReference": {
   "wkid": 103453,
   "latestWkid": 103453
  }
 },
 "minScale": 144000,
 "maxScale": 200,
 "units": "esriFeet",
 "supportedImageFormatTypes": "PNG32,PNG24,PNG,JPG,DIB,TIFF,EMF,PS,PDF,GIF,SVG,SVGZ,BMP",
 "documentInfo": {
  "Title": "",
  "Author": "",
  "Comments": "These 80 scales were the primary mechanism for documenting changes to utilities, parcels and other data prior to the GIS system being implemented at the City of Janesville. These were then combined together to create a mosaic for the city, accurate until 2005. The Monument version contains water and sanitary sewer information, but not water or sanitary information due to spatial constraints.",
  "Subject": "80 Scale Drawings for the City of Janesville that were used to document changes prior to 2005. The Monument version contains water and sanitary sewer utilities.",
  "Category": "",
  "AntialiasingMode": "None",
  "TextAntialiasingMode": "Force",
  "Keywords": "80 scales,Monument,Janesville,2005"
 },
 "capabilities": "Map,Query,Data",
 "supportedQueryFormats": "JSON, AMF",
 "exportTilesAllowed": false,
 "maxRecordCount": 1000,
 "maxImageHeight": 4096,
 "maxImageWidth": 4096,
 "supportedExtensions": "KmlServer"
}
