{
 "currentVersion": 10.31,
 "serviceDescription": "The Janesville Air Photo includes a mosaic of images within the city limits from 2005. The photo is cached to provide greater resolution.",
 "mapName": "Layers",
 "description": "",
 "copyrightText": "",
 "supportsDynamicLayers": false,
 "layers": [
  {
   "id": 0,
   "name": "2005 BW",
   "parentLayerId": -1,
   "defaultVisibility": true,
   "subLayerIds": null,
   "minScale": 200000,
   "maxScale": 0
  }
 ],
 "tables": [],
 "spatialReference": {
  "wkid": 103453,
  "latestWkid": 103453
 },
 "singleFusedMapCache": true,
 "tileInfo": {
  "rows": 128,
  "cols": 128,
  "dpi": 96,
  "format": "MIXED",
  "compressionQuality": 75,
  "origin": {
   "x": -17969200,
   "y": 17574800
  },
  "spatialReference": {
   "wkid": 103453,
   "latestWkid": 103453
  },
  "lods": [
   {
    "level": 0,
    "resolution": 125,
    "scale": 144000
   },
   {
    "level": 1,
    "resolution": 62.5,
    "scale": 72000
   },
   {
    "level": 2,
    "resolution": 31.25,
    "scale": 36000
   },
   {
    "level": 3,
    "resolution": 15.625,
    "scale": 18000
   },
   {
    "level": 4,
    "resolution": 7.8125,
    "scale": 9000
   },
   {
    "level": 5,
    "resolution": 3.472222222222222,
    "scale": 4000
   },
   {
    "level": 6,
    "resolution": 1.736111111111111,
    "scale": 2000
   },
   {
    "level": 7,
    "resolution": 0.8680555555555555,
    "scale": 1000
   },
   {
    "level": 8,
    "resolution": 0.3472222222222222,
    "scale": 400
   }
  ]
 },
 "initialExtent": {
  "xmin": 424284.1207866719,
  "ymin": 249472.2674654393,
  "xmax": 565142.7943276371,
  "ymax": 326689.974045125,
  "spatialReference": {
   "wkid": 103453,
   "latestWkid": 103453
  }
 },
 "fullExtent": {
  "xmin": 437012.31417892757,
  "ymin": 231107.3027137559,
  "xmax": 552414.6009353809,
  "ymax": 327114.2471582003,
  "spatialReference": {
   "wkid": 103453,
   "latestWkid": 103453
  }
 },
 "minScale": 144000,
 "maxScale": 200,
 "units": "esriFeet",
 "supportedImageFormatTypes": "PNG32,PNG24,PNG,JPG,DIB,TIFF,EMF,PS,PDF,GIF,SVG,SVGZ,BMP",
 "documentInfo": {
  "Title": "",
  "Author": "",
  "Comments": "The Janesville Air Photo includes a mosaic of images within the city limits from 2005. The photo is cached to provide greater resolution.",
  "Subject": "Black and white air photo for the City of Janesville from 2005 ",
  "Category": "",
  "AntialiasingMode": "None",
  "TextAntialiasingMode": "Force",
  "Keywords": "Air Photo,Orthophoto,Janesville,BW,2005"
 },
 "capabilities": "Map,Query,Data",
 "supportedQueryFormats": "JSON, AMF",
 "exportTilesAllowed": false,
 "maxRecordCount": 1000,
 "maxImageHeight": 4096,
 "maxImageWidth": 4096,
 "supportedExtensions": "KmlServer"
}
