{
 "currentVersion": 10.31,
 "serviceDescription": "The Rock County Air Photo is a raster dataset of a Mr Sid image from 2020. The photo is cached to provide greater performance.",
 "mapName": "Layers",
 "description": "",
 "copyrightText": "",
 "supportsDynamicLayers": false,
 "layers": [
  {
   "id": 0,
   "name": "2020 County Air Photo",
   "parentLayerId": -1,
   "defaultVisibility": true,
   "subLayerIds": null,
   "minScale": 0,
   "maxScale": 0
  }
 ],
 "tables": [],
 "spatialReference": {
  "wkt": "PROJCS[\"NAD_1983_2011_WISCRS_Rock_Feet\",GEOGCS[\"GCS_NAD_1983_2011\",DATUM[\"D_NAD_1983_2011\",SPHEROID[\"GRS_1980\",6378137.0,298.257222101]],PRIMEM[\"Greenwich\",0.0],UNIT[\"Degree\",0.0174532925199433]],PROJECTION[\"Transverse_Mercator\"],PARAMETER[\"False_Easting\",480000.0],PARAMETER[\"False_Northing\",0.022],PARAMETER[\"Central_Meridian\",-89.07222222222222],PARAMETER[\"Scale_Factor\",1.0000337311],PARAMETER[\"Latitude_Of_Origin\",41.94444444444444],UNIT[\"Foot_US\",0.3048006096012192]]"
 },
 "singleFusedMapCache": true,
 "tileInfo": {
  "rows": 256,
  "cols": 256,
  "dpi": 96,
  "format": "MIXED",
  "compressionQuality": 75,
  "origin": {
   "x": -17969200,
   "y": 1.7574800000000007E7
  },
  "spatialReference": {
   "wkt": "PROJCS[\"NAD_1983_2011_WISCRS_Rock_Feet\",GEOGCS[\"GCS_NAD_1983_2011\",DATUM[\"D_NAD_1983_2011\",SPHEROID[\"GRS_1980\",6378137.0,298.257222101]],PRIMEM[\"Greenwich\",0.0],UNIT[\"Degree\",0.0174532925199433]],PROJECTION[\"Transverse_Mercator\"],PARAMETER[\"False_Easting\",480000.0],PARAMETER[\"False_Northing\",0.022],PARAMETER[\"Central_Meridian\",-89.07222222222222],PARAMETER[\"Scale_Factor\",1.0000337311],PARAMETER[\"Latitude_Of_Origin\",41.94444444444444],UNIT[\"Foot_US\",0.3048006096012192]]"
  },
  "lods": [
   {
    "level": 0,
    "resolution": 125,
    "scale": 144000
   },
   {
    "level": 1,
    "resolution": 62.5,
    "scale": 72000
   },
   {
    "level": 2,
    "resolution": 31.25,
    "scale": 36000
   },
   {
    "level": 3,
    "resolution": 15.625,
    "scale": 18000
   },
   {
    "level": 4,
    "resolution": 7.8125,
    "scale": 9000
   },
   {
    "level": 5,
    "resolution": 3.472222222222222,
    "scale": 4000
   },
   {
    "level": 6,
    "resolution": 1.736111111111111,
    "scale": 2000
   },
   {
    "level": 7,
    "resolution": 0.8680555555555555,
    "scale": 1000
   },
   {
    "level": 8,
    "resolution": 0.3472222222222222,
    "scale": 400
   }
  ]
 },
 "initialExtent": {
  "xmin": 384150.6971032746,
  "ymin": 242886.8579345088,
  "xmax": 575882.8028967255,
  "ymax": 331517.7370277078,
  "spatialReference": {
   "cs": "pcs",
   "wkt": "PROJCS[\"NAD_1983_2011_WISCRS_Rock_Feet\",GEOGCS[\"GCS_NAD_1983_2011\",DATUM[\"D_NAD_1983_2011\",SPHEROID[\"GRS_1980\",6378137.0,298.257222101]],PRIMEM[\"Greenwich\",0.0],UNIT[\"Degree\",0.0174532925199433]],PROJECTION[\"Transverse_Mercator\"],PARAMETER[\"False_Easting\",480000.0],PARAMETER[\"False_Northing\",0.022],PARAMETER[\"Central_Meridian\",-89.07222222222222],PARAMETER[\"Scale_Factor\",1.0000337311],PARAMETER[\"Latitude_Of_Origin\",41.94444444444444],UNIT[\"Foot_US\",0.3048006096012192]]"
  }
 },
 "fullExtent": {
  "xmin": 399706.5,
  "ymin": 199130.5,
  "xmax": 560327,
  "ymax": 329692.5,
  "spatialReference": {
   "cs": "pcs",
   "wkt": "PROJCS[\"NAD_1983_2011_WISCRS_Rock_Feet\",GEOGCS[\"GCS_NAD_1983_2011\",DATUM[\"D_NAD_1983_2011\",SPHEROID[\"GRS_1980\",6378137.0,298.257222101]],PRIMEM[\"Greenwich\",0.0],UNIT[\"Degree\",0.0174532925199433]],PROJECTION[\"Transverse_Mercator\"],PARAMETER[\"False_Easting\",480000.0],PARAMETER[\"False_Northing\",0.022],PARAMETER[\"Central_Meridian\",-89.07222222222222],PARAMETER[\"Scale_Factor\",1.0000337311],PARAMETER[\"Latitude_Of_Origin\",41.94444444444444],UNIT[\"Foot_US\",0.3048006096012192]]"
  }
 },
 "minScale": 144000,
 "maxScale": 200,
 "units": "esriFeet",
 "supportedImageFormatTypes": "PNG32,PNG24,PNG,JPG,DIB,TIFF,EMF,PS,PDF,GIF,SVG,SVGZ,BMP",
 "documentInfo": {
  "Title": "",
  "Author": "",
  "Comments": "The Rock County Air Photo is a raster dataset of a Mr Sid image from 2020. The photo is cached to provide greater performance.",
  "Subject": "Air photo of Rock County from 2020",
  "Category": "",
  "AntialiasingMode": "None",
  "TextAntialiasingMode": "Force",
  "Keywords": "Air Photo,Othophoto,Rock County,2020"
 },
 "capabilities": "Map,Query,Data",
 "supportedQueryFormats": "JSON, AMF",
 "exportTilesAllowed": false,
 "maxRecordCount": 1000,
 "maxImageHeight": 4096,
 "maxImageWidth": 4096,
 "supportedExtensions": "KmlServer"
}
