{
 "currentVersion": 10.31,
 "serviceDescription": "This basic basemap includes parcel features, as well as some other identification elements for reference. It is designed to be very simple and to work without too many background elements.",
 "mapName": "Layers",
 "description": "Provides a consumer representation of parcel information that can be used with infrastructure and parcel information. The layers in the map provide context for multiple workflows, such as editing data or producing web maps. Includes structures, roads, major facilities and landmarks, water features, parcels, addresses and boundaries. This basemap uses design elements found in the General Purpose basemap but adds additional content at larger scales.",
 "copyrightText": "",
 "supportsDynamicLayers": false,
 "layers": [
  {
   "id": 0,
   "name": "400",
   "parentLayerId": -1,
   "defaultVisibility": true,
   "subLayerIds": [
    1,
    2,
    3,
    4,
    5,
    7,
    9,
    12,
    13,
    14,
    15
   ],
   "minScale": 800,
   "maxScale": 0
  },
  {
   "id": 1,
   "name": "Street Names with Highway Symbol_400",
   "parentLayerId": 0,
   "defaultVisibility": true,
   "subLayerIds": null,
   "minScale": 0,
   "maxScale": 0
  },
  {
   "id": 2,
   "name": "Municipal Boundary_400",
   "parentLayerId": 0,
   "defaultVisibility": true,
   "subLayerIds": null,
   "minScale": 0,
   "maxScale": 0
  },
  {
   "id": 3,
   "name": "Railroad_400",
   "parentLayerId": 0,
   "defaultVisibility": true,
   "subLayerIds": null,
   "minScale": 0,
   "maxScale": 0
  },
  {
   "id": 4,
   "name": "Tax Parcel_400",
   "parentLayerId": 0,
   "defaultVisibility": true,
   "subLayerIds": null,
   "minScale": 0,
   "maxScale": 0
  },
  {
   "id": 5,
   "name": "Property Dimension Annotation_400",
   "parentLayerId": 0,
   "defaultVisibility": true,
   "subLayerIds": [
    6
   ],
   "minScale": 0,
   "maxScale": 0
  },
  {
   "id": 6,
   "name": "Property Dimension",
   "parentLayerId": 5,
   "defaultVisibility": true,
   "subLayerIds": null,
   "minScale": 0,
   "maxScale": 0
  },
  {
   "id": 7,
   "name": "Taxkey Annotation_400",
   "parentLayerId": 0,
   "defaultVisibility": true,
   "subLayerIds": [
    8
   ],
   "minScale": 0,
   "maxScale": 0
  },
  {
   "id": 8,
   "name": "Taxkey",
   "parentLayerId": 7,
   "defaultVisibility": true,
   "subLayerIds": null,
   "minScale": 0,
   "maxScale": 0
  },
  {
   "id": 9,
   "name": "Parcel Annotation_400",
   "parentLayerId": 0,
   "defaultVisibility": true,
   "subLayerIds": [
    10,
    11
   ],
   "minScale": 0,
   "maxScale": 0
  },
  {
   "id": 10,
   "name": "Meander",
   "parentLayerId": 9,
   "defaultVisibility": true,
   "subLayerIds": null,
   "minScale": 0,
   "maxScale": 0
  },
  {
   "id": 11,
   "name": "Tie Dimension",
   "parentLayerId": 9,
   "defaultVisibility": true,
   "subLayerIds": null,
   "minScale": 0,
   "maxScale": 0
  },
  {
   "id": 12,
   "name": "Parcel Lines_400",
   "parentLayerId": 0,
   "defaultVisibility": true,
   "subLayerIds": null,
   "minScale": 24000,
   "maxScale": 0
  },
  {
   "id": 13,
   "name": "Street Centerlines_400",
   "parentLayerId": 0,
   "defaultVisibility": true,
   "subLayerIds": null,
   "minScale": 0,
   "maxScale": 0
  },
  {
   "id": 14,
   "name": "Waterbodies_400",
   "parentLayerId": 0,
   "defaultVisibility": true,
   "subLayerIds": null,
   "minScale": 0,
   "maxScale": 0
  },
  {
   "id": 15,
   "name": "Waterlines_400",
   "parentLayerId": 0,
   "defaultVisibility": true,
   "subLayerIds": null,
   "minScale": 0,
   "maxScale": 0
  },
  {
   "id": 16,
   "name": "1K",
   "parentLayerId": -1,
   "defaultVisibility": true,
   "subLayerIds": [
    17,
    18,
    19,
    20,
    22,
    23,
    25,
    28,
    29,
    30,
    31
   ],
   "minScale": 1950,
   "maxScale": 1000
  },
  {
   "id": 17,
   "name": "Street Names with Highway Symbol_1K",
   "parentLayerId": 16,
   "defaultVisibility": true,
   "subLayerIds": null,
   "minScale": 0,
   "maxScale": 0
  },
  {
   "id": 18,
   "name": "Municipal Boundary_1K",
   "parentLayerId": 16,
   "defaultVisibility": true,
   "subLayerIds": null,
   "minScale": 0,
   "maxScale": 0
  },
  {
   "id": 19,
   "name": "Railroad_1K",
   "parentLayerId": 16,
   "defaultVisibility": true,
   "subLayerIds": null,
   "minScale": 0,
   "maxScale": 0
  },
  {
   "id": 20,
   "name": "Property Dimension Annotation_1K",
   "parentLayerId": 16,
   "defaultVisibility": true,
   "subLayerIds": [
    21
   ],
   "minScale": 0,
   "maxScale": 0
  },
  {
   "id": 21,
   "name": "Property Dimension",
   "parentLayerId": 20,
   "defaultVisibility": true,
   "subLayerIds": null,
   "minScale": 0,
   "maxScale": 0
  },
  {
   "id": 22,
   "name": "Tax Parcel_1K",
   "parentLayerId": 16,
   "defaultVisibility": true,
   "subLayerIds": null,
   "minScale": 0,
   "maxScale": 0
  },
  {
   "id": 23,
   "name": "Taxkey Annotation_1K",
   "parentLayerId": 16,
   "defaultVisibility": true,
   "subLayerIds": [
    24
   ],
   "minScale": 0,
   "maxScale": 0
  },
  {
   "id": 24,
   "name": "Taxkey",
   "parentLayerId": 23,
   "defaultVisibility": true,
   "subLayerIds": null,
   "minScale": 0,
   "maxScale": 0
  },
  {
   "id": 25,
   "name": "Parcel Annotation_1K",
   "parentLayerId": 16,
   "defaultVisibility": true,
   "subLayerIds": [
    26,
    27
   ],
   "minScale": 0,
   "maxScale": 0
  },
  {
   "id": 26,
   "name": "Meander",
   "parentLayerId": 25,
   "defaultVisibility": true,
   "subLayerIds": null,
   "minScale": 0,
   "maxScale": 0
  },
  {
   "id": 27,
   "name": "Tie Dimension",
   "parentLayerId": 25,
   "defaultVisibility": true,
   "subLayerIds": null,
   "minScale": 0,
   "maxScale": 0
  },
  {
   "id": 28,
   "name": "Parcel Lines_1K",
   "parentLayerId": 16,
   "defaultVisibility": true,
   "subLayerIds": null,
   "minScale": 24000,
   "maxScale": 0
  },
  {
   "id": 29,
   "name": "Street Centerlines_1K",
   "parentLayerId": 16,
   "defaultVisibility": true,
   "subLayerIds": null,
   "minScale": 0,
   "maxScale": 0
  },
  {
   "id": 30,
   "name": "Waterbodies_1K",
   "parentLayerId": 16,
   "defaultVisibility": true,
   "subLayerIds": null,
   "minScale": 0,
   "maxScale": 0
  },
  {
   "id": 31,
   "name": "Waterlines_1K",
   "parentLayerId": 16,
   "defaultVisibility": true,
   "subLayerIds": null,
   "minScale": 0,
   "maxScale": 0
  },
  {
   "id": 32,
   "name": "2K",
   "parentLayerId": -1,
   "defaultVisibility": true,
   "subLayerIds": [
    33,
    34,
    35,
    36,
    37,
    38,
    39,
    40,
    41
   ],
   "minScale": 2500,
   "maxScale": 1951
  },
  {
   "id": 33,
   "name": "Tax Parcel_2K",
   "parentLayerId": 32,
   "defaultVisibility": true,
   "subLayerIds": null,
   "minScale": 0,
   "maxScale": 0
  },
  {
   "id": 34,
   "name": "Municipal Boundary_2K",
   "parentLayerId": 32,
   "defaultVisibility": true,
   "subLayerIds": null,
   "minScale": 0,
   "maxScale": 0
  },
  {
   "id": 35,
   "name": "Railroad_2K",
   "parentLayerId": 32,
   "defaultVisibility": true,
   "subLayerIds": null,
   "minScale": 0,
   "maxScale": 0
  },
  {
   "id": 36,
   "name": "Parcel Lines_2K",
   "parentLayerId": 32,
   "defaultVisibility": true,
   "subLayerIds": null,
   "minScale": 24000,
   "maxScale": 0
  },
  {
   "id": 37,
   "name": "Street Names with Highway Symbol_2K",
   "parentLayerId": 32,
   "defaultVisibility": true,
   "subLayerIds": null,
   "minScale": 0,
   "maxScale": 0
  },
  {
   "id": 38,
   "name": "Street Centerlines_2K",
   "parentLayerId": 32,
   "defaultVisibility": true,
   "subLayerIds": null,
   "minScale": 0,
   "maxScale": 0
  },
  {
   "id": 39,
   "name": "Municipal Boundaries_2K",
   "parentLayerId": 32,
   "defaultVisibility": true,
   "subLayerIds": null,
   "minScale": 0,
   "maxScale": 0
  },
  {
   "id": 40,
   "name": "Waterlines_2K",
   "parentLayerId": 32,
   "defaultVisibility": true,
   "subLayerIds": null,
   "minScale": 0,
   "maxScale": 0
  },
  {
   "id": 41,
   "name": "Waterbodies_2K",
   "parentLayerId": 32,
   "defaultVisibility": true,
   "subLayerIds": null,
   "minScale": 0,
   "maxScale": 0
  },
  {
   "id": 42,
   "name": "4K",
   "parentLayerId": -1,
   "defaultVisibility": true,
   "subLayerIds": [
    43,
    49,
    50,
    51,
    52,
    53,
    54,
    55
   ],
   "minScale": 5000,
   "maxScale": 2501
  },
  {
   "id": 43,
   "name": "Street Name Annotation_4K",
   "parentLayerId": 42,
   "defaultVisibility": true,
   "subLayerIds": [
    44,
    45,
    46,
    47,
    48
   ],
   "minScale": 0,
   "maxScale": 0
  },
  {
   "id": 44,
   "name": "Street_Text_In_ROW",
   "parentLayerId": 43,
   "defaultVisibility": true,
   "subLayerIds": null,
   "minScale": 0,
   "maxScale": 0
  },
  {
   "id": 45,
   "name": "Street_Text_Out_ROW",
   "parentLayerId": 43,
   "defaultVisibility": false,
   "subLayerIds": null,
   "minScale": 0,
   "maxScale": 0
  },
  {
   "id": 46,
   "name": "Major_Streets_Large",
   "parentLayerId": 43,
   "defaultVisibility": false,
   "subLayerIds": null,
   "minScale": 0,
   "maxScale": 0
  },
  {
   "id": 47,
   "name": "Major_Streets_Medium",
   "parentLayerId": 43,
   "defaultVisibility": false,
   "subLayerIds": null,
   "minScale": 0,
   "maxScale": 0
  },
  {
   "id": 48,
   "name": "Major_Streets_Small",
   "parentLayerId": 43,
   "defaultVisibility": false,
   "subLayerIds": null,
   "minScale": 0,
   "maxScale": 0
  },
  {
   "id": 49,
   "name": "Tax Parcel_4K",
   "parentLayerId": 42,
   "defaultVisibility": true,
   "subLayerIds": null,
   "minScale": 0,
   "maxScale": 0
  },
  {
   "id": 50,
   "name": "Waterlines_4K",
   "parentLayerId": 42,
   "defaultVisibility": true,
   "subLayerIds": null,
   "minScale": 0,
   "maxScale": 0
  },
  {
   "id": 51,
   "name": "Municipal Boundary_4K",
   "parentLayerId": 42,
   "defaultVisibility": true,
   "subLayerIds": null,
   "minScale": 0,
   "maxScale": 0
  },
  {
   "id": 52,
   "name": "Railroad_4K",
   "parentLayerId": 42,
   "defaultVisibility": true,
   "subLayerIds": null,
   "minScale": 0,
   "maxScale": 0
  },
  {
   "id": 53,
   "name": "Street Names with Highway Symbol_4K",
   "parentLayerId": 42,
   "defaultVisibility": true,
   "subLayerIds": null,
   "minScale": 0,
   "maxScale": 0
  },
  {
   "id": 54,
   "name": "Street Centerlines_4K",
   "parentLayerId": 42,
   "defaultVisibility": true,
   "subLayerIds": null,
   "minScale": 0,
   "maxScale": 0
  },
  {
   "id": 55,
   "name": "Waterbodies_4K",
   "parentLayerId": 42,
   "defaultVisibility": true,
   "subLayerIds": null,
   "minScale": 0,
   "maxScale": 0
  },
  {
   "id": 56,
   "name": "9K",
   "parentLayerId": -1,
   "defaultVisibility": true,
   "subLayerIds": [
    57,
    63,
    64,
    65,
    66,
    67,
    68,
    69
   ],
   "minScale": 15000,
   "maxScale": 5001
  },
  {
   "id": 57,
   "name": "Street Name Annotation_9K",
   "parentLayerId": 56,
   "defaultVisibility": true,
   "subLayerIds": [
    58,
    59,
    60,
    61,
    62
   ],
   "minScale": 0,
   "maxScale": 0
  },
  {
   "id": 58,
   "name": "Street_Text_In_ROW",
   "parentLayerId": 57,
   "defaultVisibility": true,
   "subLayerIds": null,
   "minScale": 0,
   "maxScale": 0
  },
  {
   "id": 59,
   "name": "Street_Text_Out_ROW",
   "parentLayerId": 57,
   "defaultVisibility": false,
   "subLayerIds": null,
   "minScale": 0,
   "maxScale": 0
  },
  {
   "id": 60,
   "name": "Major_Streets_Large",
   "parentLayerId": 57,
   "defaultVisibility": false,
   "subLayerIds": null,
   "minScale": 0,
   "maxScale": 0
  },
  {
   "id": 61,
   "name": "Major_Streets_Medium",
   "parentLayerId": 57,
   "defaultVisibility": false,
   "subLayerIds": null,
   "minScale": 0,
   "maxScale": 0
  },
  {
   "id": 62,
   "name": "Major_Streets_Small",
   "parentLayerId": 57,
   "defaultVisibility": false,
   "subLayerIds": null,
   "minScale": 0,
   "maxScale": 0
  },
  {
   "id": 63,
   "name": "Street Names with Highway Symbol_9K",
   "parentLayerId": 56,
   "defaultVisibility": true,
   "subLayerIds": null,
   "minScale": 0,
   "maxScale": 0
  },
  {
   "id": 64,
   "name": "Tax Parcel_9K",
   "parentLayerId": 56,
   "defaultVisibility": true,
   "subLayerIds": null,
   "minScale": 0,
   "maxScale": 0
  },
  {
   "id": 65,
   "name": "Waterlines_9K",
   "parentLayerId": 56,
   "defaultVisibility": true,
   "subLayerIds": null,
   "minScale": 0,
   "maxScale": 0
  },
  {
   "id": 66,
   "name": "Waterbodies_9K",
   "parentLayerId": 56,
   "defaultVisibility": true,
   "subLayerIds": null,
   "minScale": 0,
   "maxScale": 0
  },
  {
   "id": 67,
   "name": "Municipal Boundary_9K",
   "parentLayerId": 56,
   "defaultVisibility": true,
   "subLayerIds": null,
   "minScale": 0,
   "maxScale": 0
  },
  {
   "id": 68,
   "name": "Railroad_9K",
   "parentLayerId": 56,
   "defaultVisibility": true,
   "subLayerIds": null,
   "minScale": 0,
   "maxScale": 0
  },
  {
   "id": 69,
   "name": "Street Centerlines_9K",
   "parentLayerId": 56,
   "defaultVisibility": true,
   "subLayerIds": null,
   "minScale": 0,
   "maxScale": 0
  },
  {
   "id": 70,
   "name": "18K",
   "parentLayerId": -1,
   "defaultVisibility": true,
   "subLayerIds": [
    71,
    77,
    82,
    83,
    84,
    85,
    86,
    87
   ],
   "minScale": 25000,
   "maxScale": 15001
  },
  {
   "id": 71,
   "name": "Street Name Annotation_18K",
   "parentLayerId": 70,
   "defaultVisibility": true,
   "subLayerIds": [
    72,
    73,
    74,
    75,
    76
   ],
   "minScale": 0,
   "maxScale": 0
  },
  {
   "id": 72,
   "name": "Street_Text_In_ROW",
   "parentLayerId": 71,
   "defaultVisibility": false,
   "subLayerIds": null,
   "minScale": 0,
   "maxScale": 0
  },
  {
   "id": 73,
   "name": "Street_Text_Out_ROW",
   "parentLayerId": 71,
   "defaultVisibility": false,
   "subLayerIds": null,
   "minScale": 0,
   "maxScale": 0
  },
  {
   "id": 74,
   "name": "Major_Streets_Large",
   "parentLayerId": 71,
   "defaultVisibility": false,
   "subLayerIds": null,
   "minScale": 0,
   "maxScale": 0
  },
  {
   "id": 75,
   "name": "Major_Streets_Medium",
   "parentLayerId": 71,
   "defaultVisibility": false,
   "subLayerIds": null,
   "minScale": 0,
   "maxScale": 0
  },
  {
   "id": 76,
   "name": "Major_Streets_Small",
   "parentLayerId": 71,
   "defaultVisibility": false,
   "subLayerIds": null,
   "minScale": 0,
   "maxScale": 0
  },
  {
   "id": 77,
   "name": "Highway Shield Labels_18K",
   "parentLayerId": 70,
   "defaultVisibility": true,
   "subLayerIds": [
    78,
    79,
    80,
    81
   ],
   "minScale": 0,
   "maxScale": 0
  },
  {
   "id": 78,
   "name": "County",
   "parentLayerId": 77,
   "defaultVisibility": true,
   "subLayerIds": null,
   "minScale": 0,
   "maxScale": 0
  },
  {
   "id": 79,
   "name": "Feds",
   "parentLayerId": 77,
   "defaultVisibility": true,
   "subLayerIds": null,
   "minScale": 0,
   "maxScale": 0
  },
  {
   "id": 80,
   "name": "Interstate",
   "parentLayerId": 77,
   "defaultVisibility": true,
   "subLayerIds": null,
   "minScale": 0,
   "maxScale": 0
  },
  {
   "id": 81,
   "name": "State",
   "parentLayerId": 77,
   "defaultVisibility": true,
   "subLayerIds": null,
   "minScale": 0,
   "maxScale": 0
  },
  {
   "id": 82,
   "name": "Tax Parcel_18K",
   "parentLayerId": 70,
   "defaultVisibility": true,
   "subLayerIds": null,
   "minScale": 0,
   "maxScale": 0
  },
  {
   "id": 83,
   "name": "Waterlines_18K",
   "parentLayerId": 70,
   "defaultVisibility": true,
   "subLayerIds": null,
   "minScale": 0,
   "maxScale": 0
  },
  {
   "id": 84,
   "name": "Waterbodies_18K",
   "parentLayerId": 70,
   "defaultVisibility": true,
   "subLayerIds": null,
   "minScale": 0,
   "maxScale": 0
  },
  {
   "id": 85,
   "name": "Municipal Boundary_18K",
   "parentLayerId": 70,
   "defaultVisibility": true,
   "subLayerIds": null,
   "minScale": 0,
   "maxScale": 0
  },
  {
   "id": 86,
   "name": "Railroad_18K",
   "parentLayerId": 70,
   "defaultVisibility": true,
   "subLayerIds": null,
   "minScale": 0,
   "maxScale": 0
  },
  {
   "id": 87,
   "name": "Street Centerlines_18K",
   "parentLayerId": 70,
   "defaultVisibility": true,
   "subLayerIds": null,
   "minScale": 0,
   "maxScale": 0
  },
  {
   "id": 88,
   "name": "36K",
   "parentLayerId": -1,
   "defaultVisibility": true,
   "subLayerIds": [
    89,
    95,
    100,
    101,
    102,
    103,
    104
   ],
   "minScale": 50000,
   "maxScale": 25001
  },
  {
   "id": 89,
   "name": "Street Name Annotation_18K",
   "parentLayerId": 88,
   "defaultVisibility": true,
   "subLayerIds": [
    90,
    91,
    92,
    93,
    94
   ],
   "minScale": 0,
   "maxScale": 0
  },
  {
   "id": 90,
   "name": "Street_Text_In_ROW",
   "parentLayerId": 89,
   "defaultVisibility": false,
   "subLayerIds": null,
   "minScale": 0,
   "maxScale": 0
  },
  {
   "id": 91,
   "name": "Street_Text_Out_ROW",
   "parentLayerId": 89,
   "defaultVisibility": false,
   "subLayerIds": null,
   "minScale": 0,
   "maxScale": 0
  },
  {
   "id": 92,
   "name": "Major_Streets_Large",
   "parentLayerId": 89,
   "defaultVisibility": false,
   "subLayerIds": null,
   "minScale": 0,
   "maxScale": 0
  },
  {
   "id": 93,
   "name": "Major_Streets_Medium",
   "parentLayerId": 89,
   "defaultVisibility": true,
   "subLayerIds": null,
   "minScale": 0,
   "maxScale": 0
  },
  {
   "id": 94,
   "name": "Major_Streets_Small",
   "parentLayerId": 89,
   "defaultVisibility": false,
   "subLayerIds": null,
   "minScale": 0,
   "maxScale": 0
  },
  {
   "id": 95,
   "name": "Highway Shield Labels_36K",
   "parentLayerId": 88,
   "defaultVisibility": true,
   "subLayerIds": [
    96,
    97,
    98,
    99
   ],
   "minScale": 0,
   "maxScale": 0
  },
  {
   "id": 96,
   "name": "County",
   "parentLayerId": 95,
   "defaultVisibility": true,
   "subLayerIds": null,
   "minScale": 0,
   "maxScale": 0
  },
  {
   "id": 97,
   "name": "Feds",
   "parentLayerId": 95,
   "defaultVisibility": true,
   "subLayerIds": null,
   "minScale": 0,
   "maxScale": 0
  },
  {
   "id": 98,
   "name": "Interstate",
   "parentLayerId": 95,
   "defaultVisibility": true,
   "subLayerIds": null,
   "minScale": 0,
   "maxScale": 0
  },
  {
   "id": 99,
   "name": "State",
   "parentLayerId": 95,
   "defaultVisibility": true,
   "subLayerIds": null,
   "minScale": 0,
   "maxScale": 0
  },
  {
   "id": 100,
   "name": "Waterlines_36K",
   "parentLayerId": 88,
   "defaultVisibility": true,
   "subLayerIds": null,
   "minScale": 0,
   "maxScale": 0
  },
  {
   "id": 101,
   "name": "Municipal Boundary_36K",
   "parentLayerId": 88,
   "defaultVisibility": true,
   "subLayerIds": null,
   "minScale": 0,
   "maxScale": 0
  },
  {
   "id": 102,
   "name": "Railroad_36K",
   "parentLayerId": 88,
   "defaultVisibility": true,
   "subLayerIds": null,
   "minScale": 0,
   "maxScale": 0
  },
  {
   "id": 103,
   "name": "Street Centerlines_36K",
   "parentLayerId": 88,
   "defaultVisibility": true,
   "subLayerIds": null,
   "minScale": 0,
   "maxScale": 0
  },
  {
   "id": 104,
   "name": "Waterbodies_36K",
   "parentLayerId": 88,
   "defaultVisibility": true,
   "subLayerIds": null,
   "minScale": 0,
   "maxScale": 0
  },
  {
   "id": 105,
   "name": "72K",
   "parentLayerId": -1,
   "defaultVisibility": true,
   "subLayerIds": [
    106,
    111,
    112,
    113
   ],
   "minScale": 100000,
   "maxScale": 50001
  },
  {
   "id": 106,
   "name": "Highway Shield Labels_72K",
   "parentLayerId": 105,
   "defaultVisibility": true,
   "subLayerIds": [
    107,
    108,
    109,
    110
   ],
   "minScale": 0,
   "maxScale": 0
  },
  {
   "id": 107,
   "name": "County",
   "parentLayerId": 106,
   "defaultVisibility": true,
   "subLayerIds": null,
   "minScale": 0,
   "maxScale": 0
  },
  {
   "id": 108,
   "name": "Feds",
   "parentLayerId": 106,
   "defaultVisibility": true,
   "subLayerIds": null,
   "minScale": 0,
   "maxScale": 0
  },
  {
   "id": 109,
   "name": "Interstate",
   "parentLayerId": 106,
   "defaultVisibility": true,
   "subLayerIds": null,
   "minScale": 0,
   "maxScale": 0
  },
  {
   "id": 110,
   "name": "State",
   "parentLayerId": 106,
   "defaultVisibility": true,
   "subLayerIds": null,
   "minScale": 0,
   "maxScale": 0
  },
  {
   "id": 111,
   "name": "Railroad_72K",
   "parentLayerId": 105,
   "defaultVisibility": true,
   "subLayerIds": null,
   "minScale": 0,
   "maxScale": 0
  },
  {
   "id": 112,
   "name": "Street Centerlines_72K",
   "parentLayerId": 105,
   "defaultVisibility": true,
   "subLayerIds": null,
   "minScale": 0,
   "maxScale": 0
  },
  {
   "id": 113,
   "name": "Surrounding Townships_72K",
   "parentLayerId": 105,
   "defaultVisibility": true,
   "subLayerIds": null,
   "minScale": 0,
   "maxScale": 0
  },
  {
   "id": 114,
   "name": "144K",
   "parentLayerId": -1,
   "defaultVisibility": true,
   "subLayerIds": [
    115,
    116,
    117
   ],
   "minScale": 350000,
   "maxScale": 100001
  },
  {
   "id": 115,
   "name": "Municipal Boundary_144K",
   "parentLayerId": 114,
   "defaultVisibility": true,
   "subLayerIds": null,
   "minScale": 0,
   "maxScale": 0
  },
  {
   "id": 116,
   "name": "Street Centerlines_144K",
   "parentLayerId": 114,
   "defaultVisibility": true,
   "subLayerIds": null,
   "minScale": 0,
   "maxScale": 0
  },
  {
   "id": 117,
   "name": "Surrounding Townships_144K",
   "parentLayerId": 114,
   "defaultVisibility": true,
   "subLayerIds": null,
   "minScale": 0,
   "maxScale": 0
  }
 ],
 "tables": [],
 "spatialReference": {
  "wkid": 103453,
  "latestWkid": 103453
 },
 "singleFusedMapCache": true,
 "tileInfo": {
  "rows": 128,
  "cols": 128,
  "dpi": 96,
  "format": "MIXED",
  "compressionQuality": 75,
  "origin": {
   "x": -17969200,
   "y": 17574800
  },
  "spatialReference": {
   "wkid": 103453,
   "latestWkid": 103453
  },
  "lods": [
   {
    "level": 0,
    "resolution": 125,
    "scale": 144000
   },
   {
    "level": 1,
    "resolution": 62.5,
    "scale": 72000
   },
   {
    "level": 2,
    "resolution": 31.25,
    "scale": 36000
   },
   {
    "level": 3,
    "resolution": 15.625,
    "scale": 18000
   },
   {
    "level": 4,
    "resolution": 7.8125,
    "scale": 9000
   },
   {
    "level": 5,
    "resolution": 3.472222222222222,
    "scale": 4000
   },
   {
    "level": 6,
    "resolution": 1.736111111111111,
    "scale": 2000
   },
   {
    "level": 7,
    "resolution": 0.8680555555555555,
    "scale": 1000
   },
   {
    "level": 8,
    "resolution": 0.3472222222222222,
    "scale": 400
   }
  ]
 },
 "initialExtent": {
  "xmin": 456296.07738276257,
  "ymin": 277877.663390087,
  "xmax": 546530.4523827626,
  "ymax": 314726.6217234204,
  "spatialReference": {
   "wkid": 103453,
   "latestWkid": 103453
  }
 },
 "fullExtent": {
  "xmin": 463948.8062008323,
  "ymin": 232520.254140093,
  "xmax": 528015.7978172572,
  "ymax": 329171.1074259275,
  "spatialReference": {
   "wkid": 103453,
   "latestWkid": 103453
  }
 },
 "minScale": 144000,
 "maxScale": 200,
 "units": "esriFeet",
 "supportedImageFormatTypes": "PNG32,PNG24,PNG,JPG,DIB,TIFF,EMF,PS,PDF,GIF,SVG,SVGZ,BMP",
 "documentInfo": {
  "Title": "",
  "Author": "",
  "Comments": "This basemap includes many parcel features, as well as some other identification elements for reference. It is designed to be very simple and to work without too many background elements.",
  "Subject": "A basemap that includes general information about the City of Janesville, designed to be used with an air photo.",
  "Category": "",
  "AntialiasingMode": "None",
  "TextAntialiasingMode": "Force",
  "Keywords": "Basemap,Cache,Janesville"
 },
 "capabilities": "Map,Query,Data",
 "supportedQueryFormats": "JSON, AMF",
 "hasVersionedData": true,
 "exportTilesAllowed": false,
 "maxRecordCount": 1000,
 "maxImageHeight": 4096,
 "maxImageWidth": 4096,
 "supportedExtensions": "KmlServer"
}
