{
 "currentVersion": 10.31,
 "serviceDescription": "The Janesville Elevation contour layer includes both the Index (10 ft) and Intermediate (2 ft) contours, as well as Index and Intermediate Depression areas.",
 "mapName": "Layers",
 "description": "",
 "copyrightText": "",
 "supportsDynamicLayers": false,
 "layers": [
  {
   "id": 0,
   "name": "Elevation Contour Lines Below 1.5K",
   "parentLayerId": -1,
   "defaultVisibility": true,
   "subLayerIds": null,
   "minScale": 1500,
   "maxScale": 0
  },
  {
   "id": 1,
   "name": "Elevation Contour Lines 15K-1.5K",
   "parentLayerId": -1,
   "defaultVisibility": true,
   "subLayerIds": null,
   "minScale": 15000,
   "maxScale": 1501
  },
  {
   "id": 2,
   "name": "Elevation Contour Lines Above 15K",
   "parentLayerId": -1,
   "defaultVisibility": true,
   "subLayerIds": null,
   "minScale": 25000,
   "maxScale": 15001
  }
 ],
 "tables": [],
 "spatialReference": {
  "wkid": 103453,
  "latestWkid": 103453
 },
 "singleFusedMapCache": true,
 "tileInfo": {
  "rows": 128,
  "cols": 128,
  "dpi": 96,
  "format": "MIXED",
  "compressionQuality": 75,
  "origin": {
   "x": -17969200,
   "y": 17574800
  },
  "spatialReference": {
   "wkid": 103453,
   "latestWkid": 103453
  },
  "lods": [
   {
    "level": 0,
    "resolution": 125,
    "scale": 144000
   },
   {
    "level": 1,
    "resolution": 62.5,
    "scale": 72000
   },
   {
    "level": 2,
    "resolution": 31.25,
    "scale": 36000
   },
   {
    "level": 3,
    "resolution": 15.625,
    "scale": 18000
   },
   {
    "level": 4,
    "resolution": 7.8125,
    "scale": 9000
   },
   {
    "level": 5,
    "resolution": 3.472222222222222,
    "scale": 4000
   },
   {
    "level": 6,
    "resolution": 1.736111111111111,
    "scale": 2000
   },
   {
    "level": 7,
    "resolution": 0.8680555555555555,
    "scale": 1000
   },
   {
    "level": 8,
    "resolution": 0.3472222222222222,
    "scale": 400
   }
  ]
 },
 "initialExtent": {
  "xmin": 491760.8998024375,
  "ymin": 265708.1697756432,
  "xmax": 506198.3998024375,
  "ymax": 271604.0031089766,
  "spatialReference": {
   "wkid": 103453,
   "latestWkid": 103453
  }
 },
 "fullExtent": {
  "xmin": 474699.4520223364,
  "ymin": 238466.02899392694,
  "xmax": 517230.4073145874,
  "ymax": 297308.26629609615,
  "spatialReference": {
   "wkid": 103453,
   "latestWkid": 103453
  }
 },
 "minScale": 144000,
 "maxScale": 200,
 "units": "esriFeet",
 "supportedImageFormatTypes": "PNG32,PNG24,PNG,JPG,DIB,TIFF,EMF,PS,PDF,GIF,SVG,SVGZ,BMP",
 "documentInfo": {
  "Title": "",
  "Author": "",
  "Comments": "The Janesville Elevation contour layer includes both the Index (10 ft) and Intermediate (2 ft) contours, as well as Index and Intermediate Depression areas.",
  "Subject": "Ten and Two Foot Elevation Contours for the City of Janesville",
  "Category": "",
  "AntialiasingMode": "None",
  "TextAntialiasingMode": "Force",
  "Keywords": "Contours,Index,Intermediate,Depression,Janesville"
 },
 "capabilities": "Map,Query,Data",
 "supportedQueryFormats": "JSON, AMF",
 "hasVersionedData": true,
 "exportTilesAllowed": false,
 "maxRecordCount": 1000,
 "maxImageHeight": 4096,
 "maxImageWidth": 4096,
 "supportedExtensions": "KmlServer"
}
